Package: scGraphVerse Version: 1.0.0 Command: /Library/Frameworks/R.framework/Resources/bin/R CMD build --keep-empty-dirs --no-resave-data scGraphVerse StartedAt: 2025-11-03 18:38:45 -0500 (Mon, 03 Nov 2025) EndedAt: 2025-11-03 18:45:37 -0500 (Mon, 03 Nov 2025) EllapsedTime: 411.9 seconds RetCode: 0 Status: OK PackageFile: scGraphVerse_1.0.0.tar.gz PackageFileSize: 3.679 MiB