Package: scGraphVerse Version: 1.0.0 Command: rm -rf scGraphVerse.buildbin-libdir && mkdir scGraphVerse.buildbin-libdir && /Users/biocbuild/BBS/utils/build-universal.sh scGraphVerse_1.0.0.tar.gz /Library/Frameworks/R.framework/Resources/bin/R scGraphVerse.buildbin-libdir StartedAt: 2025-11-04 02:02:39 -0500 (Tue, 04 Nov 2025) EndedAt: 2025-11-04 02:03:28 -0500 (Tue, 04 Nov 2025) EllapsedTime: 48.5 seconds RetCode: 0 Status: OK PackageFile: scGraphVerse_1.0.0.tgz PackageFileSize: 3.95 MiB