Package: scGraphVerse Version: 1.0.0 Command: rm -rf scGraphVerse.buildbin-libdir && mkdir scGraphVerse.buildbin-libdir && /Users/biocbuild/BBS/utils/build-universal.sh scGraphVerse_1.0.0.tar.gz /Library/Frameworks/R.framework/Resources/bin/R scGraphVerse.buildbin-libdir StartedAt: 2025-11-10 23:35:38 -0500 (Mon, 10 Nov 2025) EndedAt: 2025-11-10 23:35:53 -0500 (Mon, 10 Nov 2025) EllapsedTime: 14.3 seconds RetCode: 0 Status: OK PackageFile: scGraphVerse_1.0.0.tgz PackageFileSize: 3.973 MiB