Package: scGPS Version: 1.24.0 Command: /home/biocbuild/R/R/bin/R CMD INSTALL scGPS StartedAt: 2025-11-13 21:30:01 -0000 (Thu, 13 Nov 2025) EndedAt: 2025-11-13 21:31:20 -0000 (Thu, 13 Nov 2025) EllapsedTime: 79.0 seconds RetCode: 0 Status: OK