Package: scGPS Version: 1.24.0 Command: /home/biocbuild/R/R/bin/R CMD build --keep-empty-dirs --no-resave-data scGPS StartedAt: 2025-11-14 05:07:25 -0000 (Fri, 14 Nov 2025) EndedAt: 2025-11-14 05:09:10 -0000 (Fri, 14 Nov 2025) EllapsedTime: 105.1 seconds RetCode: 1 Status: ERROR PackageFile: None PackageFileSize: NA