Package: scGPS Version: 1.22.0 Command: /home/biocbuild/bbs-3.21-bioc/R/bin/R CMD INSTALL scGPS StartedAt: 2025-10-15 15:21:57 -0400 (Wed, 15 Oct 2025) EndedAt: 2025-10-15 15:22:51 -0400 (Wed, 15 Oct 2025) EllapsedTime: 53.6 seconds RetCode: 0 Status: OK