Package: scGPS Version: 1.22.0 Command: /home/biocbuild/bbs-3.21-bioc/R/bin/R CMD build --keep-empty-dirs --no-resave-data scGPS StartedAt: 2025-10-15 19:43:31 -0400 (Wed, 15 Oct 2025) EndedAt: 2025-10-15 19:49:22 -0400 (Wed, 15 Oct 2025) EllapsedTime: 350.3 seconds RetCode: 0 Status: OK PackageFile: scGPS_1.22.0.tar.gz PackageFileSize: 2.022 MiB