Package: scGPS Version: 1.24.0 Command: /Library/Frameworks/R.framework/Resources/bin/R CMD INSTALL scGPS StartedAt: 2025-11-20 16:25:56 -0500 (Thu, 20 Nov 2025) EndedAt: 2025-11-20 16:27:49 -0500 (Thu, 20 Nov 2025) EllapsedTime: 112.4 seconds RetCode: 0 Status: OK