Package: scGPS Version: 1.24.0 Command: /Library/Frameworks/R.framework/Resources/bin/R CMD build --keep-empty-dirs --no-resave-data scGPS StartedAt: 2025-11-20 23:29:04 -0500 (Thu, 20 Nov 2025) EndedAt: 2025-11-20 23:43:16 -0500 (Thu, 20 Nov 2025) EllapsedTime: 852.7 seconds RetCode: 0 Status: OK PackageFile: scGPS_1.24.0.tar.gz PackageFileSize: 2.031 MiB