Package: scGPS Version: 1.22.0 Command: /Library/Frameworks/R.framework/Resources/bin/R CMD INSTALL scGPS StartedAt: 2025-10-13 16:27:08 -0400 (Mon, 13 Oct 2025) EndedAt: 2025-10-13 16:28:05 -0400 (Mon, 13 Oct 2025) EllapsedTime: 57.2 seconds RetCode: 0 Status: OK