Package: scGPS Version: 1.22.0 Command: /Library/Frameworks/R.framework/Resources/bin/R CMD build --keep-empty-dirs --no-resave-data scGPS StartedAt: 2025-10-14 08:44:54 -0400 (Tue, 14 Oct 2025) EndedAt: 2025-10-14 08:51:48 -0400 (Tue, 14 Oct 2025) EllapsedTime: 414.9 seconds RetCode: 0 Status: OK PackageFile: scGPS_1.22.0.tar.gz PackageFileSize: 2.035 MiB