Package: scFeatures Version: 1.10.0 Command: /home/biocbuild/R/R/bin/R CMD INSTALL scFeatures StartedAt: 2025-11-13 22:11:28 -0000 (Thu, 13 Nov 2025) EndedAt: 2025-11-13 22:13:07 -0000 (Thu, 13 Nov 2025) EllapsedTime: 99.1 seconds RetCode: 0 Status: OK