Package: scFeatures Version: 1.10.0 Command: /home/biocbuild/R/R/bin/R CMD build --keep-empty-dirs --no-resave-data scFeatures StartedAt: 2025-11-14 05:06:42 -0000 (Fri, 14 Nov 2025) EndedAt: 2025-11-14 05:09:38 -0000 (Fri, 14 Nov 2025) EllapsedTime: 176.1 seconds RetCode: 0 Status: OK PackageFile: scFeatures_1.10.0.tar.gz PackageFileSize: 2.916 MiB