Package: scFeatures Version: 1.8.0 Command: chmod a+r scFeatures -R && E:\biocbuild\bbs-3.21-bioc\R\bin\R.exe CMD build --keep-empty-dirs --no-resave-data scFeatures StartedAt: 2025-08-14 22:00:28 -0400 (Thu, 14 Aug 2025) EndedAt: 2025-08-14 22:04:06 -0400 (Thu, 14 Aug 2025) EllapsedTime: 218.2 seconds RetCode: 0 Status: OK PackageFile: scFeatures_1.8.0.tar.gz PackageFileSize: 2.879 MiB