Package: scFeatures Version: 1.10.0 Command: /home/biocbuild/bbs-3.22-bioc/R/bin/R CMD INSTALL scFeatures StartedAt: 2025-11-11 16:05:56 -0500 (Tue, 11 Nov 2025) EndedAt: 2025-11-11 16:07:09 -0500 (Tue, 11 Nov 2025) EllapsedTime: 73.0 seconds RetCode: 0 Status: OK