Package: scFeatures Version: 1.10.0 Command: /home/biocbuild/bbs-3.22-bioc/R/bin/R CMD check --install=check:scFeatures.install-out.txt --library=/home/biocbuild/bbs-3.22-bioc/R/site-library --timings scFeatures_1.10.0.tar.gz StartedAt: 2025-11-12 03:48:31 -0500 (Wed, 12 Nov 2025) EndedAt: 2025-11-12 03:57:47 -0500 (Wed, 12 Nov 2025) EllapsedTime: 555.5 seconds RetCode: 1 Status: ERROR CheckDir: scFeatures.Rcheck Warnings: NA