Package: scFeatures Version: 1.8.0 Command: /Library/Frameworks/R.framework/Resources/bin/R CMD INSTALL scFeatures StartedAt: 2025-10-02 16:46:21 -0400 (Thu, 02 Oct 2025) EndedAt: 2025-10-02 16:48:24 -0400 (Thu, 02 Oct 2025) EllapsedTime: 122.9 seconds RetCode: 0 Status: OK