Package: scFeatures Version: 1.8.0 Command: /Library/Frameworks/R.framework/Resources/bin/R CMD build --keep-empty-dirs --no-resave-data scFeatures StartedAt: 2025-10-02 22:21:52 -0400 (Thu, 02 Oct 2025) EndedAt: 2025-10-02 22:26:35 -0400 (Thu, 02 Oct 2025) EllapsedTime: 283.4 seconds RetCode: 0 Status: OK PackageFile: scFeatures_1.8.0.tar.gz PackageFileSize: 2.928 MiB