Package: scFeatures Version: 1.8.0 Command: rm -rf scFeatures.buildbin-libdir && mkdir scFeatures.buildbin-libdir && /Users/biocbuild/BBS/utils/build-universal.sh scFeatures_1.8.0.tar.gz /Library/Frameworks/R.framework/Resources/bin/R scFeatures.buildbin-libdir StartedAt: 2025-10-03 14:29:34 -0400 (Fri, 03 Oct 2025) EndedAt: 2025-10-03 14:32:12 -0400 (Fri, 03 Oct 2025) EllapsedTime: 157.2 seconds RetCode: 0 Status: OK PackageFile: scFeatures_1.8.0.tgz PackageFileSize: 3.068 MiB