Package: scDotPlot Version: 1.4.0 Command: /home/biocbuild/R/R/bin/R CMD INSTALL scDotPlot StartedAt: 2025-11-10 22:07:02 -0000 (Mon, 10 Nov 2025) EndedAt: 2025-11-10 22:07:56 -0000 (Mon, 10 Nov 2025) EllapsedTime: 54.4 seconds RetCode: 0 Status: OK