Package: scDotPlot Version: 1.4.0 Command: /home/biocbuild/R/R/bin/R CMD build --keep-empty-dirs --no-resave-data scDotPlot StartedAt: 2025-11-11 04:52:32 -0000 (Tue, 11 Nov 2025) EndedAt: 2025-11-11 04:54:42 -0000 (Tue, 11 Nov 2025) EllapsedTime: 130.1 seconds RetCode: 0 Status: OK PackageFile: scDotPlot_1.4.0.tar.gz PackageFileSize: 936.2 KiB