Package: scDotPlot Version: 1.2.1 Command: E:\biocbuild\bbs-3.21-bioc\R\bin\R.exe CMD INSTALL scDotPlot StartedAt: 2025-08-14 16:19:23 -0400 (Thu, 14 Aug 2025) EndedAt: 2025-08-14 16:20:09 -0400 (Thu, 14 Aug 2025) EllapsedTime: 45.7 seconds RetCode: 0 Status: OK