Package: scDotPlot Version: 1.2.1 Command: chmod a+r scDotPlot -R && E:\biocbuild\bbs-3.21-bioc\R\bin\R.exe CMD build --keep-empty-dirs --no-resave-data scDotPlot StartedAt: 2025-08-14 21:59:58 -0400 (Thu, 14 Aug 2025) EndedAt: 2025-08-14 22:02:20 -0400 (Thu, 14 Aug 2025) EllapsedTime: 141.9 seconds RetCode: 0 Status: OK PackageFile: scDotPlot_1.2.1.tar.gz PackageFileSize: 670.1 KiB