Package: scDotPlot Version: 1.4.0 Command: /home/biocbuild/bbs-3.22-bioc/R/bin/R CMD INSTALL scDotPlot StartedAt: 2025-11-11 16:00:06 -0500 (Tue, 11 Nov 2025) EndedAt: 2025-11-11 16:00:46 -0500 (Tue, 11 Nov 2025) EllapsedTime: 40.8 seconds RetCode: 0 Status: OK