Package: scDotPlot Version: 1.4.0 Command: /home/biocbuild/bbs-3.22-bioc/R/bin/R CMD build --keep-empty-dirs --no-resave-data --md5 scDotPlot StartedAt: 2025-11-11 20:00:03 -0500 (Tue, 11 Nov 2025) EndedAt: 2025-11-11 20:01:48 -0500 (Tue, 11 Nov 2025) EllapsedTime: 105.1 seconds RetCode: 0 Status: OK PackageFile: scDotPlot_1.4.0.tar.gz PackageFileSize: 1.874 MiB