Package: scDiagnostics Version: 1.4.0 Command: /home/biocbuild/R/R/bin/R CMD build --keep-empty-dirs --no-resave-data scDiagnostics StartedAt: 2025-11-14 05:04:59 -0000 (Fri, 14 Nov 2025) EndedAt: 2025-11-14 05:12:24 -0000 (Fri, 14 Nov 2025) EllapsedTime: 444.3 seconds RetCode: 0 Status: OK PackageFile: scDiagnostics_1.4.0.tar.gz PackageFileSize: 3.933 MiB