Package: scDiagnostics Version: 1.4.0 Command: /home/biocbuild/bbs-3.22-bioc/R/bin/R CMD INSTALL scDiagnostics StartedAt: 2025-11-11 15:23:09 -0500 (Tue, 11 Nov 2025) EndedAt: 2025-11-11 15:23:40 -0500 (Tue, 11 Nov 2025) EllapsedTime: 31.6 seconds RetCode: 0 Status: OK