Package: scDiagnostics Version: 1.4.0 Command: /home/biocbuild/bbs-3.22-bioc/R/bin/R CMD check --install=check:scDiagnostics.install-out.txt --library=/home/biocbuild/bbs-3.22-bioc/R/site-library --timings scDiagnostics_1.4.0.tar.gz StartedAt: 2025-11-12 03:46:32 -0500 (Wed, 12 Nov 2025) EndedAt: 2025-11-12 04:03:55 -0500 (Wed, 12 Nov 2025) EllapsedTime: 1042.9 seconds RetCode: 0 Status: OK CheckDir: scDiagnostics.Rcheck Warnings: 0