Package: scDiagnostics Version: 1.2.0 Command: /home/biocbuild/bbs-3.21-bioc/R/bin/R CMD INSTALL scDiagnostics StartedAt: 2025-10-01 15:21:14 -0400 (Wed, 01 Oct 2025) EndedAt: 2025-10-01 15:21:40 -0400 (Wed, 01 Oct 2025) EllapsedTime: 26.7 seconds RetCode: 0 Status: OK