Package: scDiagnostics Version: 1.2.0 Command: /home/biocbuild/bbs-3.21-bioc/R/bin/R CMD build --keep-empty-dirs --no-resave-data scDiagnostics StartedAt: 2025-10-01 19:46:32 -0400 (Wed, 01 Oct 2025) EndedAt: 2025-10-01 19:49:45 -0400 (Wed, 01 Oct 2025) EllapsedTime: 193.2 seconds RetCode: 0 Status: OK PackageFile: scDiagnostics_1.2.0.tar.gz PackageFileSize: 3.619 MiB