Package: scDiagnostics Version: 1.2.0 Command: /Library/Frameworks/R.framework/Resources/bin/R CMD INSTALL scDiagnostics StartedAt: 2025-10-13 15:34:40 -0400 (Mon, 13 Oct 2025) EndedAt: 2025-10-13 15:35:39 -0400 (Mon, 13 Oct 2025) EllapsedTime: 59.0 seconds RetCode: 0 Status: OK