Package: scDiagnostics Version: 1.2.0 Command: /Library/Frameworks/R.framework/Resources/bin/R CMD build --keep-empty-dirs --no-resave-data scDiagnostics StartedAt: 2025-10-13 22:20:06 -0400 (Mon, 13 Oct 2025) EndedAt: 2025-10-13 22:27:20 -0400 (Mon, 13 Oct 2025) EllapsedTime: 434.2 seconds RetCode: 0 Status: OK PackageFile: scDiagnostics_1.2.0.tar.gz PackageFileSize: 3.62 MiB