Package: scDiagnostics Version: 1.2.0 Command: rm -rf scDiagnostics.buildbin-libdir && mkdir scDiagnostics.buildbin-libdir && /Users/biocbuild/BBS/utils/build-universal.sh scDiagnostics_1.2.0.tar.gz /Library/Frameworks/R.framework/Resources/bin/R scDiagnostics.buildbin-libdir StartedAt: 2025-10-14 14:42:05 -0400 (Tue, 14 Oct 2025) EndedAt: 2025-10-14 14:43:23 -0400 (Tue, 14 Oct 2025) EllapsedTime: 78.3 seconds RetCode: 0 Status: OK PackageFile: scDiagnostics_1.2.0.tgz PackageFileSize: 3.814 MiB