Package: scDiagnostics Version: 1.2.0 Command: rm -rf scDiagnostics.buildbin-libdir && mkdir scDiagnostics.buildbin-libdir && /Users/biocbuild/BBS/utils/build-universal.sh scDiagnostics_1.2.0.tar.gz /Library/Frameworks/R.framework/Resources/bin/R scDiagnostics.buildbin-libdir StartedAt: 2025-04-22 01:07:11 -0400 (Tue, 22 Apr 2025) EndedAt: 2025-04-22 01:07:51 -0400 (Tue, 22 Apr 2025) EllapsedTime: 40.3 seconds RetCode: 0 Status: OK PackageFile: scDiagnostics_1.2.0.tgz PackageFileSize: 3.813 MiB