Package: scDiagnostics Version: 1.2.0 Command: /Library/Frameworks/R.framework/Resources/bin/R CMD INSTALL scDiagnostics StartedAt: 2025-10-02 18:41:50 -0400 (Thu, 02 Oct 2025) EndedAt: 2025-10-02 18:42:22 -0400 (Thu, 02 Oct 2025) EllapsedTime: 32.0 seconds RetCode: 0 Status: OK