Package: scDiagnostics Version: 1.2.0 Command: /Library/Frameworks/R.framework/Resources/bin/R CMD build --keep-empty-dirs --no-resave-data scDiagnostics StartedAt: 2025-10-03 08:34:02 -0400 (Fri, 03 Oct 2025) EndedAt: 2025-10-03 08:37:54 -0400 (Fri, 03 Oct 2025) EllapsedTime: 232.1 seconds RetCode: 0 Status: OK PackageFile: scDiagnostics_1.2.0.tar.gz PackageFileSize: 3.62 MiB