Package: scDesign3 Version: 1.8.0 Command: /home/biocbuild/R/R/bin/R CMD INSTALL scDesign3 StartedAt: 2025-11-10 21:45:30 -0000 (Mon, 10 Nov 2025) EndedAt: 2025-11-10 21:45:43 -0000 (Mon, 10 Nov 2025) EllapsedTime: 12.7 seconds RetCode: 0 Status: OK