Package: scDesign3 Version: 1.8.0 Command: /home/biocbuild/R/R/bin/R CMD build --keep-empty-dirs --no-resave-data scDesign3 StartedAt: 2025-11-11 04:52:04 -0000 (Tue, 11 Nov 2025) EndedAt: 2025-11-11 04:53:33 -0000 (Tue, 11 Nov 2025) EllapsedTime: 89.1 seconds RetCode: 0 Status: OK PackageFile: scDesign3_1.8.0.tar.gz PackageFileSize: 860.6 KiB