Package: scDesign3 Version: 1.6.0 Command: chmod a+r scDesign3 -R && E:\biocbuild\bbs-3.21-bioc\R\bin\R.exe CMD build --keep-empty-dirs --no-resave-data scDesign3 StartedAt: 2025-08-14 21:59:54 -0400 (Thu, 14 Aug 2025) EndedAt: 2025-08-14 22:00:23 -0400 (Thu, 14 Aug 2025) EllapsedTime: 28.8 seconds RetCode: 1 Status: ERROR PackageFile: None PackageFileSize: NA