Package: scDesign3 Version: 1.8.0 Command: /home/biocbuild/bbs-3.22-bioc/R/bin/R CMD INSTALL scDesign3 StartedAt: 2025-11-11 15:42:07 -0500 (Tue, 11 Nov 2025) EndedAt: 2025-11-11 15:42:17 -0500 (Tue, 11 Nov 2025) EllapsedTime: 9.6 seconds RetCode: 0 Status: OK