Package: scDesign3 Version: 1.8.0 Command: /home/biocbuild/bbs-3.22-bioc/R/bin/R CMD build --keep-empty-dirs --no-resave-data --md5 scDesign3 StartedAt: 2025-11-11 19:59:55 -0500 (Tue, 11 Nov 2025) EndedAt: 2025-11-11 20:00:56 -0500 (Tue, 11 Nov 2025) EllapsedTime: 61.1 seconds RetCode: 0 Status: OK PackageFile: scDesign3_1.8.0.tar.gz PackageFileSize: 1.006 MiB