Package: scDblFinder Version: 1.24.0 Command: /home/biocbuild/R/R/bin/R CMD INSTALL scDblFinder StartedAt: 2025-11-13 22:07:49 -0000 (Thu, 13 Nov 2025) EndedAt: 2025-11-13 22:08:45 -0000 (Thu, 13 Nov 2025) EllapsedTime: 56.0 seconds RetCode: 0 Status: OK