Package: scDblFinder Version: 1.24.0 Command: /home/biocbuild/bbs-3.22-bioc/R/bin/R CMD check --install=check:scDblFinder.install-out.txt --library=/home/biocbuild/bbs-3.22-bioc/R/site-library --timings scDblFinder_1.24.0.tar.gz StartedAt: 2025-11-12 03:45:27 -0500 (Wed, 12 Nov 2025) EndedAt: 2025-11-12 03:54:33 -0500 (Wed, 12 Nov 2025) EllapsedTime: 545.8 seconds RetCode: 0 Status: OK CheckDir: scDblFinder.Rcheck Warnings: 0