Package: scDblFinder Version: 1.22.0 Command: /home/biocbuild/bbs-3.21-bioc/R/bin/R CMD INSTALL scDblFinder StartedAt: 2025-10-05 15:54:04 -0400 (Sun, 05 Oct 2025) EndedAt: 2025-10-05 15:54:46 -0400 (Sun, 05 Oct 2025) EllapsedTime: 42.1 seconds RetCode: 0 Status: OK