Package: scDblFinder Version: 1.22.0 Command: rm -rf scDblFinder.buildbin-libdir && mkdir scDblFinder.buildbin-libdir && /Users/biocbuild/BBS/utils/build-universal.sh scDblFinder_1.22.0.tar.gz /Library/Frameworks/R.framework/Resources/bin/R scDblFinder.buildbin-libdir StartedAt: 2025-04-22 01:07:06 -0400 (Tue, 22 Apr 2025) EndedAt: 2025-04-22 01:08:06 -0400 (Tue, 22 Apr 2025) EllapsedTime: 60.0 seconds RetCode: 0 Status: OK PackageFile: scDblFinder_1.22.0.tgz PackageFileSize: 2.425 MiB