Package: scDblFinder Version: 1.22.0 Command: /Library/Frameworks/R.framework/Resources/bin/R CMD build --keep-empty-dirs --no-resave-data scDblFinder StartedAt: 2025-04-21 17:32:48 -0400 (Mon, 21 Apr 2025) EndedAt: 2025-04-21 17:33:55 -0400 (Mon, 21 Apr 2025) EllapsedTime: 67.8 seconds RetCode: 0 Status: OK PackageFile: scDblFinder_1.22.0.tar.gz PackageFileSize: 2.251 MiB