Package: scDblFinder Version: 1.22.0 Command: /Library/Frameworks/R.framework/Resources/bin/R CMD INSTALL scDblFinder StartedAt: 2025-10-02 18:18:57 -0400 (Thu, 02 Oct 2025) EndedAt: 2025-10-02 18:19:47 -0400 (Thu, 02 Oct 2025) EllapsedTime: 49.8 seconds RetCode: 0 Status: OK