Package: scDblFinder Version: 1.22.0 Command: /Library/Frameworks/R.framework/Resources/bin/R CMD build --keep-empty-dirs --no-resave-data scDblFinder StartedAt: 2025-10-03 08:30:01 -0400 (Fri, 03 Oct 2025) EndedAt: 2025-10-03 08:32:47 -0400 (Fri, 03 Oct 2025) EllapsedTime: 166.5 seconds RetCode: 0 Status: OK PackageFile: scDblFinder_1.22.0.tar.gz PackageFileSize: 2.209 MiB