Package: scDblFinder Version: 1.22.0 Command: rm -rf scDblFinder.buildbin-libdir && mkdir scDblFinder.buildbin-libdir && /Users/biocbuild/BBS/utils/build-universal.sh scDblFinder_1.22.0.tar.gz /Library/Frameworks/R.framework/Resources/bin/R scDblFinder.buildbin-libdir StartedAt: 2025-10-04 19:49:52 -0400 (Sat, 04 Oct 2025) EndedAt: 2025-10-04 19:50:47 -0400 (Sat, 04 Oct 2025) EllapsedTime: 55.1 seconds RetCode: 0 Status: OK PackageFile: scDblFinder_1.22.0.tgz PackageFileSize: 2.385 MiB