Package: scDataviz Version: 1.20.0 Command: /home/biocbuild/R/R/bin/R CMD INSTALL scDataviz StartedAt: 2025-11-10 21:42:06 -0000 (Mon, 10 Nov 2025) EndedAt: 2025-11-10 21:42:58 -0000 (Mon, 10 Nov 2025) EllapsedTime: 51.4 seconds RetCode: 0 Status: OK